BEGIN:VCALENDAR
VERSION:2.0
PRODID:-//HAE - Australasia - ECPv4.6.10.1//NONSGML v1.0//EN
CALSCALE:GREGORIAN
METHOD:PUBLISH
X-WR-CALNAME:HAE - Australasia
X-ORIGINAL-URL:http://www.haeaustralasia.org.au
X-WR-CALDESC:Events for HAE - Australasia
BEGIN:VEVENT
DTSTART;TZID=Australia/Brisbane:20190413T090000
DTEND;TZID=Australia/Brisbane:20190414T173000
DTSTAMP:20190228T094413
CREATED:20180608T011501Z
LAST-MODIFIED:20181102T094112Z
UID:12726-1555146000-1555263000@www.haeaustralasia.org.au
SUMMARY:2019 Patient & Carers Conference
DESCRIPTION:Dear Patients & Carers \nHAE Australasia Ltd is pleased to release more information and a link to the RSVP online form for the 2019 Patient & Carers Conference. \nThe conference will be held during the school holidays over 2 days on Saturday 13th & Sunday 14th of April\, 2019 and will be held at the Mantra on View on the Gold Coast\, Queensland. \nThis event will be a family affair – bring the kids for the youngster’s sessions (ages 5 to 18) where they can learn about all things HAE and meet other youngsters also living with HAE. \nWe are excited to have well known international and local speakers\, and sessions with useful tips and tricks\, as well as a social poolside BBQ\, and fun activities for the whole family. \nWe are pleased to be able to once again offer travel grants* to those travelling a distance from the Gold Coast (minimum $100 per person with exact amount to be confirmed once all RSVPs have been received) *Conditions apply. \nA limited number of standard accommodation rooms are being held at the Mantra on View at a special rate of $145 per night on a first come first served basis.  You will need to select the ‘Mantra on View’ option through the link below when completing your RSVP.  We will contact you with a confirmation\, room specifics and a hotel accommodation booking form in due course\, or if you prefer to stay elsewhere there are plenty of good options around the area. \nClick here to RSVP via the online booking form  \nThis event is open for HAE Australasia members in Australia and New Zealand only. If you are already a member you will have received an email with the link to the online booking form via HAEi Connect. If you would like to become a member register here  \nIf you have any queries on membership\, travel grants or other questions please send an email to fiona@haeaustralasia.org.au  \nThis event is proudly supported by: CSL Behring\, Shire and The Ian Potter Foundation \n \n
URL:http://www.haeaustralasia.org.au/event/2019-patient-carers-conference/
LOCATION:22 View Avenue\, Surfers Paradise\, Queensland\, Australia
ATTACH;FMTTYPE=image/gif:http://www.haeaustralasia.org.au/wp-content/uploads/2017/04/HAE_Australasia_event_staffage.gif
ORGANIZER;CN="Fiona":MAILTO:fiona@haeaustralasia.org.au
END:VEVENT
END:VCALENDAR